BEGIN:VCALENDAR
VERSION:2.0
PRODID:-//Mirjam Wagner-Meister - ECPv6.15.20//NONSGML v1.0//EN
CALSCALE:GREGORIAN
METHOD:PUBLISH
X-ORIGINAL-URL:https://mirjamwagner.ch
X-WR-CALDESC:Veranstaltungen für Mirjam Wagner-Meister
REFRESH-INTERVAL;VALUE=DURATION:PT1H
X-Robots-Tag:noindex
X-PUBLISHED-TTL:PT1H
BEGIN:VTIMEZONE
TZID:UTC
BEGIN:STANDARD
TZOFFSETFROM:+0000
TZOFFSETTO:+0000
TZNAME:UTC
DTSTART:20220101T000000
END:STANDARD
END:VTIMEZONE
BEGIN:VEVENT
DTSTART;TZID=UTC:20231111T100000
DTEND;TZID=UTC:20231111T104500
DTSTAMP:20260421T203612
CREATED:20231128T224336Z
LAST-MODIFIED:20231128T224336Z
UID:10000008-1699696800-1699699500@mirjamwagner.ch
SUMMARY:Königreich Organum
DESCRIPTION:Im Konz­ert­märchen «Chaos im Kön­i­gre­ich Organum» tauchen Gross und Klein in die Klang­wel­ten der Orgel ein. Die zwei Musikpäd­a­gogin­nen Mir­jam Wag­n­er und Eva­maria Felder haben gemein­sam eine Märchengeschichte über die Orgel entwick­elt. In Zusam­me­nar­beit mit der Zeich­ner­in Lena Kissóczy ent­stand eine zauber­hafte Land­karte des Märchen­re­ichs «Organum»\, welche das unbekan­nte Imperi­um auf ein­er visuellen Ebene darstellt. Die Kinder sind immer wieder dazu ein­ge­laden\, die Orgel und ihre vie­len Details zu ent­decken\, wodurch das Konz­ert einen inter­ak­tiv­en Charak­ter bekommt. Zusam­men mit sorgfältig aus­gewählten Musik­stück­en entste­ht ein stim­mungsvolles Konz­ert­märchen für Kinder ab 4 Jahren. \nMehr zum Duomeru­la > \n 
URL:https://mirjamwagner.ch/event/koenigreich-organum-2/
LOCATION:Kloster Einsiedeln\, Klosterkirche\, Einsiedeln\, 8840
END:VEVENT
BEGIN:VEVENT
DTSTART;TZID=UTC:20231111T170000
DTEND;TZID=UTC:20231111T180000
DTSTAMP:20260421T203612
CREATED:20231129T173009Z
LAST-MODIFIED:20231129T173009Z
UID:10000010-1699722000-1699725600@mirjamwagner.ch
SUMMARY:Maus Lou
DESCRIPTION:Die Maus Lou lebt im Traum­garten von Claude Mon­et und wün­scht sich sehn­lichst einen Fre­und zum Spie­len. Eines Tages find­et sie auf einem ihrer Spaziergänge eine Fed­er. Wem die wohl gehören mag? – Zur Musik von Claude Debussy\, Georges Bizet\, Gabriel Fau­ré und Eric Satie gehen die Kinder auf Spuren­suche. \nMehr zum Duomeru­la >
URL:https://mirjamwagner.ch/event/maus-lou/
LOCATION:Museum Fram\, Einsiedeln
END:VEVENT
END:VCALENDAR