BEGIN:VCALENDAR
VERSION:2.0
PRODID:-//Mirjam Wagner-Meister - ECPv6.15.20//NONSGML v1.0//EN
CALSCALE:GREGORIAN
METHOD:PUBLISH
X-ORIGINAL-URL:https://mirjamwagner.ch
X-WR-CALDESC:Veranstaltungen für Mirjam Wagner-Meister
REFRESH-INTERVAL;VALUE=DURATION:PT1H
X-Robots-Tag:noindex
X-PUBLISHED-TTL:PT1H
BEGIN:VTIMEZONE
TZID:UTC
BEGIN:STANDARD
TZOFFSETFROM:+0000
TZOFFSETTO:+0000
TZNAME:UTC
DTSTART:20220101T000000
END:STANDARD
END:VTIMEZONE
BEGIN:VEVENT
DTSTART;TZID=UTC:20231112T110000
DTEND;TZID=UTC:20231112T120000
DTSTAMP:20260421T203612
CREATED:20231129T173224Z
LAST-MODIFIED:20231129T173224Z
UID:10000011-1699786800-1699790400@mirjamwagner.ch
SUMMARY:Maus Lou
DESCRIPTION:Die Maus Lou ist ein lei­den­schaftlich­er Wan­der­vo­gel – oder bess­er: eine lei­den­schaftliche Wan­der­maus. Mit prall gefüll­tem Ruck­sack wan­dert sie durch die atem­ber­auben­den Land­schaften von Cas­par David Friedrich. – Zur Musik von Lud­wig van Beethoven und Franz Schu­bert begleit­en die Kinder die Maus Lou über Stock und Stein. \nMehr zum Duomeru­la >
URL:https://mirjamwagner.ch/event/maus-lou-2/
LOCATION:Museum Fram\, Einsiedeln
END:VEVENT
END:VCALENDAR