BEGIN:VCALENDAR
VERSION:2.0
PRODID:-//Mirjam Wagner-Meister - ECPv6.15.20//NONSGML v1.0//EN
CALSCALE:GREGORIAN
METHOD:PUBLISH
X-ORIGINAL-URL:https://mirjamwagner.ch
X-WR-CALDESC:Veranstaltungen für Mirjam Wagner-Meister
REFRESH-INTERVAL;VALUE=DURATION:PT1H
X-Robots-Tag:noindex
X-PUBLISHED-TTL:PT1H
BEGIN:VTIMEZONE
TZID:UTC
BEGIN:STANDARD
TZOFFSETFROM:+0000
TZOFFSETTO:+0000
TZNAME:UTC
DTSTART:20240101T000000
END:STANDARD
END:VTIMEZONE
BEGIN:VEVENT
DTSTART;TZID=UTC:20250313T194500
DTEND;TZID=UTC:20250313T204500
DTSTAMP:20260423T181504
CREATED:20241023T083423Z
LAST-MODIFIED:20241023T083442Z
UID:10000042-1741895100-1741898700@mirjamwagner.ch
SUMMARY:Singen und Klingen
DESCRIPTION:
URL:https://mirjamwagner.ch/event/singen-und-klingen-2/
END:VEVENT
END:VCALENDAR