BEGIN:VCALENDAR
VERSION:2.0
PRODID:-//Mirjam Wagner-Meister - ECPv6.15.20//NONSGML v1.0//EN
CALSCALE:GREGORIAN
METHOD:PUBLISH
X-ORIGINAL-URL:https://mirjamwagner.ch
X-WR-CALDESC:Veranstaltungen für Mirjam Wagner-Meister
REFRESH-INTERVAL;VALUE=DURATION:PT1H
X-Robots-Tag:noindex
X-PUBLISHED-TTL:PT1H
BEGIN:VTIMEZONE
TZID:UTC
BEGIN:STANDARD
TZOFFSETFROM:+0000
TZOFFSETTO:+0000
TZNAME:UTC
DTSTART:20240101T000000
END:STANDARD
END:VTIMEZONE
BEGIN:VEVENT
DTSTART;TZID=UTC:20250406T150000
DTEND;TZID=UTC:20250406T160000
DTSTAMP:20260423T181320
CREATED:20241023T081343Z
LAST-MODIFIED:20241023T081343Z
UID:10000039-1743951600-1743955200@mirjamwagner.ch
SUMMARY:Fauré Requiem - Musik zur Passionszeit
DESCRIPTION:
URL:https://mirjamwagner.ch/event/faure-requiem-musik-zur-passionszeit/
END:VEVENT
END:VCALENDAR