BEGIN:VCALENDAR
VERSION:2.0
PRODID:-//Mirjam Wagner-Meister - ECPv6.15.20//NONSGML v1.0//EN
CALSCALE:GREGORIAN
METHOD:PUBLISH
X-ORIGINAL-URL:https://mirjamwagner.ch
X-WR-CALDESC:Veranstaltungen für Mirjam Wagner-Meister
REFRESH-INTERVAL;VALUE=DURATION:PT1H
X-Robots-Tag:noindex
X-PUBLISHED-TTL:PT1H
BEGIN:VTIMEZONE
TZID:UTC
BEGIN:STANDARD
TZOFFSETFROM:+0000
TZOFFSETTO:+0000
TZNAME:UTC
DTSTART:20240101T000000
END:STANDARD
END:VTIMEZONE
BEGIN:VEVENT
DTSTART;TZID=UTC:20250419T180000
DTEND;TZID=UTC:20250419T190000
DTSTAMP:20260423T195032
CREATED:20241023T083658Z
LAST-MODIFIED:20250311T080436Z
UID:10000044-1745085600-1745089200@mirjamwagner.ch
SUMMARY:Passionskonzert
DESCRIPTION:Pas­sion­skonz­ert
URL:https://mirjamwagner.ch/event/passionskonzert/
END:VEVENT
END:VCALENDAR