BEGIN:VCALENDAR
VERSION:2.0
PRODID:-//Mirjam Wagner-Meister - ECPv6.15.20//NONSGML v1.0//EN
CALSCALE:GREGORIAN
METHOD:PUBLISH
X-ORIGINAL-URL:https://mirjamwagner.ch
X-WR-CALDESC:Veranstaltungen für Mirjam Wagner-Meister
REFRESH-INTERVAL;VALUE=DURATION:PT1H
X-Robots-Tag:noindex
X-PUBLISHED-TTL:PT1H
BEGIN:VTIMEZONE
TZID:UTC
BEGIN:STANDARD
TZOFFSETFROM:+0000
TZOFFSETTO:+0000
TZNAME:UTC
DTSTART:20250101T000000
END:STANDARD
END:VTIMEZONE
BEGIN:VEVENT
DTSTART;TZID=UTC:20260221T110000
DTEND;TZID=UTC:20260221T113000
DTSTAMP:20260421T184041
CREATED:20260108T151235Z
LAST-MODIFIED:20260108T203517Z
UID:10000067-1771671600-1771673400@mirjamwagner.ch
SUMMARY:Orgelmusik zur Marktzeit
DESCRIPTION:Orgel­musik zur Mark­tzeit 2026
URL:https://mirjamwagner.ch/event/orgelmusik-zur-marktzeit-4/2026-02-21/
LOCATION:Reformierte Kirche Wädenswil\, Schönenbergstr. 9\, Wädenswil\, 8820\, Schweiz
END:VEVENT
END:VCALENDAR