BEGIN:VCALENDAR
VERSION:2.0
PRODID:-//Mirjam Wagner-Meister - ECPv6.15.20//NONSGML v1.0//EN
CALSCALE:GREGORIAN
METHOD:PUBLISH
X-WR-CALNAME:Mirjam Wagner-Meister
X-ORIGINAL-URL:https://mirjamwagner.ch
X-WR-CALDESC:Veranstaltungen für Mirjam Wagner-Meister
REFRESH-INTERVAL;VALUE=DURATION:PT1H
X-Robots-Tag:noindex
X-PUBLISHED-TTL:PT1H
BEGIN:VTIMEZONE
TZID:UTC
BEGIN:STANDARD
TZOFFSETFROM:+0000
TZOFFSETTO:+0000
TZNAME:UTC
DTSTART:20250101T000000
END:STANDARD
END:VTIMEZONE
BEGIN:VEVENT
DTSTART;TZID=UTC:20260523T110000
DTEND;TZID=UTC:20260523T113000
DTSTAMP:20260421T163849
CREATED:20260108T151235Z
LAST-MODIFIED:20260108T203517Z
UID:10000070-1779534000-1779535800@mirjamwagner.ch
SUMMARY:Orgelmusik zur Marktzeit
DESCRIPTION:Orgel­musik zur Mark­tzeit 2026
URL:https://mirjamwagner.ch/event/orgelmusik-zur-marktzeit-4/2026-05-23/
LOCATION:Reformierte Kirche Wädenswil\, Schönenbergstr. 9\, Wädenswil\, 8820\, Schweiz
END:VEVENT
BEGIN:VEVENT
DTSTART;TZID=UTC:20260523T183000
DTEND;TZID=UTC:20260523T193000
DTSTAMP:20260421T163849
CREATED:20260108T204242Z
LAST-MODIFIED:20260413T122058Z
UID:10000079-1779561000-1779564600@mirjamwagner.ch
SUMMARY:Pfingstkonzert
DESCRIPTION:
URL:https://mirjamwagner.ch/event/pfingstkonzert/
LOCATION:Reformierte Kirche Wädenswil\, Schönenbergstr. 9\, Wädenswil\, 8820\, Schweiz
END:VEVENT
END:VCALENDAR