BEGIN:VCALENDAR
VERSION:2.0
PRODID:-//Mirjam Wagner-Meister - ECPv6.15.20//NONSGML v1.0//EN
CALSCALE:GREGORIAN
METHOD:PUBLISH
X-ORIGINAL-URL:https://mirjamwagner.ch
X-WR-CALDESC:Veranstaltungen für Mirjam Wagner-Meister
REFRESH-INTERVAL;VALUE=DURATION:PT1H
X-Robots-Tag:noindex
X-PUBLISHED-TTL:PT1H
BEGIN:VTIMEZONE
TZID:UTC
BEGIN:STANDARD
TZOFFSETFROM:+0000
TZOFFSETTO:+0000
TZNAME:UTC
DTSTART:20250101T000000
END:STANDARD
END:VTIMEZONE
BEGIN:VEVENT
DTSTART;TZID=UTC:20260621T170000
DTEND;TZID=UTC:20260621T180000
DTSTAMP:20260422T003729
CREATED:20260130T215015Z
LAST-MODIFIED:20260130T215015Z
UID:10000080-1782061200-1782064800@mirjamwagner.ch
SUMMARY:Orgelkonzert
DESCRIPTION:
URL:https://mirjamwagner.ch/event/orgelkonzert-6/
LOCATION:Klosterkirche Muri
END:VEVENT
END:VCALENDAR