BEGIN:VCALENDAR
VERSION:2.0
PRODID:-//Mirjam Wagner-Meister - ECPv6.15.20//NONSGML v1.0//EN
CALSCALE:GREGORIAN
METHOD:PUBLISH
X-WR-CALNAME:Mirjam Wagner-Meister
X-ORIGINAL-URL:https://mirjamwagner.ch
X-WR-CALDESC:Veranstaltungen für Mirjam Wagner-Meister
REFRESH-INTERVAL;VALUE=DURATION:PT1H
X-Robots-Tag:noindex
X-PUBLISHED-TTL:PT1H
BEGIN:VTIMEZONE
TZID:UTC
BEGIN:STANDARD
TZOFFSETFROM:+0000
TZOFFSETTO:+0000
TZNAME:UTC
DTSTART:20250101T000000
END:STANDARD
END:VTIMEZONE
BEGIN:VEVENT
DTSTART;TZID=UTC:20260705T113000
DTEND;TZID=UTC:20260705T121500
DTSTAMP:20260422T041022
CREATED:20260302T101022Z
LAST-MODIFIED:20260302T101204Z
UID:10000086-1783251000-1783253700@mirjamwagner.ch
SUMMARY:Orgelmatinee
DESCRIPTION:
URL:https://mirjamwagner.ch/event/orgelmatinee/2026-07-05/
LOCATION:Reformierte Kirche Zug
END:VEVENT
END:VCALENDAR