BEGIN:VCALENDAR
VERSION:2.0
PRODID:-//Mirjam Wagner-Meister - ECPv6.15.20//NONSGML v1.0//EN
CALSCALE:GREGORIAN
METHOD:PUBLISH
X-WR-CALNAME:Mirjam Wagner-Meister
X-ORIGINAL-URL:https://mirjamwagner.ch
X-WR-CALDESC:Veranstaltungen für Mirjam Wagner-Meister
REFRESH-INTERVAL;VALUE=DURATION:PT1H
X-Robots-Tag:noindex
X-PUBLISHED-TTL:PT1H
BEGIN:VTIMEZONE
TZID:UTC
BEGIN:STANDARD
TZOFFSETFROM:+0000
TZOFFSETTO:+0000
TZNAME:UTC
DTSTART:20220101T000000
END:STANDARD
END:VTIMEZONE
BEGIN:VEVENT
DTSTART;TZID=UTC:20231203T150000
DTEND;TZID=UTC:20231203T160000
DTSTAMP:20260421T172349
CREATED:20231128T215929Z
LAST-MODIFIED:20231128T215929Z
UID:10000002-1701615600-1701619200@mirjamwagner.ch
SUMMARY:Musik zum Advent
DESCRIPTION:An den bei­den Son­nta­gen des Ein­siedler Wei­h­nachts­mark­tes (3. und 10. Dezem­ber) find­en die stim­mungsvollen Adventskonz­erte in der Klosterkirche Ein­siedeln statt. Das Kam­merorch­ester «i baroc­coli»\, der Stiftschor Ein­siedeln und namhafte Solis­ten bestre­it­en die Konz­erte\, die sich ide­al mit einem Besuch des Wei­h­nachts­mark­tes verbinden lassen\, gemein­sam. Die Konz­erte ste­hen dieses Jahr ganz im Zeichen fes­tlich-jubilieren­der Barock­musik.
URL:https://mirjamwagner.ch/event/musik-zum-advent/
LOCATION:Kloster Einsiedeln\, Klosterkirche\, Einsiedeln\, 8840
END:VEVENT
BEGIN:VEVENT
DTSTART;TZID=UTC:20231210T150000
DTEND;TZID=UTC:20231210T160000
DTSTAMP:20260421T172349
CREATED:20231128T220022Z
LAST-MODIFIED:20231128T220022Z
UID:10000003-1702220400-1702224000@mirjamwagner.ch
SUMMARY:Musik zum Advent
DESCRIPTION:An den bei­den Son­nta­gen des Ein­siedler Wei­h­nachts­mark­tes (3. und 10. Dezem­ber) find­en die stim­mungsvollen Adventskonz­erte in der Klosterkirche Ein­siedeln statt. Das Kam­merorch­ester «i baroc­coli»\, der Stiftschor Ein­siedeln und namhafte Solis­ten bestre­it­en die Konz­erte\, die sich ide­al mit einem Besuch des Wei­h­nachts­mark­tes verbinden lassen\, gemein­sam. Die Konz­erte ste­hen dieses Jahr ganz im Zeichen fes­tlich-jubilieren­der Barock­musik.
URL:https://mirjamwagner.ch/event/musik-zum-advent-2/
LOCATION:Kloster Einsiedeln\, Klosterkirche\, Einsiedeln\, 8840
END:VEVENT
BEGIN:VEVENT
DTSTART;TZID=UTC:20231226T170000
DTEND;TZID=UTC:20231226T180000
DTSTAMP:20260421T172349
CREATED:20231124T103721Z
LAST-MODIFIED:20231124T105455Z
UID:10000001-1703610000-1703613600@mirjamwagner.ch
SUMMARY:Duomerula Weihnachtskonzert
DESCRIPTION:Abwech­slungsre­iche Konz­ert­pro­gramme\, in welchen wir die Musik aus dem Moment her­aus entste­hen lassen\, eine bunte Palette von Klang­far­ben anmis­chen und den Aus­bruch aus gewohn­ten Kon­ven­tio­nen wagen.\n\nPar­fumes des Mythes \nDie franzö­sis­che Musik ab der Spätro­man­tik ist eine riesige Fund­grube für Flöten­musik. Claude Debussys Syrinx und die Sonate von Fran­cis Poulenc zählen etwa zu den Schlüs­sel­w­erken der Flöten­lit­er­atur. Anhand dieser und weit­er­er Werke von Charles-Marie Widor\, Gabriel Fau­ré und Olivi­er Mes­si­aen erkun­den wir die vielfältige\, von dif­fus schillernd bis kräftig leuch­t­end reichende Klang­far­ben­palette dieser Epoche. \nMehr zum Duomeru­la >
URL:https://mirjamwagner.ch/event/duomerula-weihnachtskonzert/
LOCATION:Antoniushus Mattli\, Mattlistrasse 10\, 6443 Morschach\, 6443\, Schweiz
END:VEVENT
END:VCALENDAR