BEGIN:VCALENDAR
VERSION:2.0
PRODID:-//Mirjam Wagner-Meister - ECPv6.15.20//NONSGML v1.0//EN
CALSCALE:GREGORIAN
METHOD:PUBLISH
X-WR-CALNAME:Mirjam Wagner-Meister
X-ORIGINAL-URL:https://mirjamwagner.ch
X-WR-CALDESC:Veranstaltungen für Mirjam Wagner-Meister
REFRESH-INTERVAL;VALUE=DURATION:PT1H
X-Robots-Tag:noindex
X-PUBLISHED-TTL:PT1H
BEGIN:VTIMEZONE
TZID:UTC
BEGIN:STANDARD
TZOFFSETFROM:+0000
TZOFFSETTO:+0000
TZNAME:UTC
DTSTART:20250101T000000
END:STANDARD
END:VTIMEZONE
BEGIN:VEVENT
DTSTART;TZID=UTC:20260705T113000
DTEND;TZID=UTC:20260705T121500
DTSTAMP:20260422T054253
CREATED:20260302T101022Z
LAST-MODIFIED:20260302T101204Z
UID:10000086-1783251000-1783253700@mirjamwagner.ch
SUMMARY:Orgelmatinee
DESCRIPTION:
URL:https://mirjamwagner.ch/event/orgelmatinee/2026-07-05/
LOCATION:Reformierte Kirche Zug
END:VEVENT
BEGIN:VEVENT
DTSTART;TZID=UTC:20260712T113000
DTEND;TZID=UTC:20260712T121500
DTSTAMP:20260422T054253
CREATED:20260302T101022Z
LAST-MODIFIED:20260302T101204Z
UID:10000087-1783855800-1783858500@mirjamwagner.ch
SUMMARY:Orgelmatinee
DESCRIPTION:
URL:https://mirjamwagner.ch/event/orgelmatinee/2026-07-12/
LOCATION:Reformierte Kirche Zug
END:VEVENT
BEGIN:VEVENT
DTSTART;TZID=UTC:20260717T123000
DTEND;TZID=UTC:20260717T130000
DTSTAMP:20260422T054253
CREATED:20251017T123852Z
LAST-MODIFIED:20251017T123915Z
UID:10000065-1784291400-1784293200@mirjamwagner.ch
SUMMARY:Orgelpunkt - Musik zum Wochenschluss
DESCRIPTION:
URL:https://mirjamwagner.ch/event/orgelpunkt-musik-zum-wochenschluss/
LOCATION:Heiliggeistkirche Bern\, Bern
END:VEVENT
BEGIN:VEVENT
DTSTART;TZID=UTC:20260718T110000
DTEND;TZID=UTC:20260718T113000
DTSTAMP:20260422T054253
CREATED:20260108T151235Z
LAST-MODIFIED:20260108T203517Z
UID:10000071-1784372400-1784374200@mirjamwagner.ch
SUMMARY:Orgelmusik zur Marktzeit
DESCRIPTION:Orgel­musik zur Mark­tzeit 2026
URL:https://mirjamwagner.ch/event/orgelmusik-zur-marktzeit-4/2026-07-18/
LOCATION:Reformierte Kirche Wädenswil\, Schönenbergstr. 9\, Wädenswil\, 8820\, Schweiz
END:VEVENT
BEGIN:VEVENT
DTSTART;TZID=UTC:20260719T113000
DTEND;TZID=UTC:20260719T121500
DTSTAMP:20260422T054253
CREATED:20260302T101022Z
LAST-MODIFIED:20260302T101204Z
UID:10000088-1784460600-1784463300@mirjamwagner.ch
SUMMARY:Orgelmatinee
DESCRIPTION:
URL:https://mirjamwagner.ch/event/orgelmatinee/2026-07-19/
LOCATION:Reformierte Kirche Zug
END:VEVENT
BEGIN:VEVENT
DTSTART;TZID=UTC:20260721T201500
DTEND;TZID=UTC:20260721T211500
DTSTAMP:20260422T054253
CREATED:20250828T143537Z
LAST-MODIFIED:20250828T143537Z
UID:10000063-1784664900-1784668500@mirjamwagner.ch
SUMMARY:Orgelkonzert im Kloster Einsiedeln
DESCRIPTION:
URL:https://mirjamwagner.ch/event/orgelkonzert-im-kloster-einsiedeln-2/
LOCATION:Kloster Einsiedeln\, Klosterkirche\, Einsiedeln\, 8840
END:VEVENT
BEGIN:VEVENT
DTSTART;TZID=UTC:20260726T113000
DTEND;TZID=UTC:20260726T121500
DTSTAMP:20260422T054253
CREATED:20260302T101022Z
LAST-MODIFIED:20260302T101204Z
UID:10000089-1785065400-1785068100@mirjamwagner.ch
SUMMARY:Orgelmatinee
DESCRIPTION:
URL:https://mirjamwagner.ch/event/orgelmatinee/2026-07-26/
LOCATION:Reformierte Kirche Zug
END:VEVENT
END:VCALENDAR