BEGIN:VCALENDAR
VERSION:2.0
PRODID:-//Mirjam Wagner-Meister - ECPv6.15.20//NONSGML v1.0//EN
CALSCALE:GREGORIAN
METHOD:PUBLISH
X-WR-CALNAME:Mirjam Wagner-Meister
X-ORIGINAL-URL:https://mirjamwagner.ch
X-WR-CALDESC:Veranstaltungen für Mirjam Wagner-Meister
REFRESH-INTERVAL;VALUE=DURATION:PT1H
X-Robots-Tag:noindex
X-PUBLISHED-TTL:PT1H
BEGIN:VTIMEZONE
TZID:UTC
BEGIN:STANDARD
TZOFFSETFROM:+0000
TZOFFSETTO:+0000
TZNAME:UTC
DTSTART:20240101T000000
END:STANDARD
END:VTIMEZONE
BEGIN:VEVENT
DTSTART;TZID=UTC:20250529T200000
DTEND;TZID=UTC:20250529T213000
DTSTAMP:20260421T095909
CREATED:20241023T084021Z
LAST-MODIFIED:20241023T084021Z
UID:10000046-1748548800-1748554200@mirjamwagner.ch
SUMMARY:Saint-Saens Orgelsymphonie
DESCRIPTION:
URL:https://mirjamwagner.ch/event/saint-saens-orgelsymphonie-2/
LOCATION:Tonhalle Zürich\, Claridenstrasse 7\, Zürich\, Schweiz
END:VEVENT
BEGIN:VEVENT
DTSTART;TZID=UTC:20250527T200000
DTEND;TZID=UTC:20250527T213000
DTSTAMP:20260421T095909
CREATED:20241023T083856Z
LAST-MODIFIED:20241023T083856Z
UID:10000045-1748376000-1748381400@mirjamwagner.ch
SUMMARY:Saint-Saens Orgelsymphonie
DESCRIPTION:
URL:https://mirjamwagner.ch/event/saint-saens-orgelsymphonie/
LOCATION:Reformierte Kirche Wädenswil\, Schönenbergstr. 9\, Wädenswil\, 8820\, Schweiz
END:VEVENT
END:VCALENDAR